BEGIN:VCALENDAR
VERSION:2.0
PRODID:-//Brainfood | Moodfood | Gehirn | Stress | Ernährung | Immunsystem | Schlaf | Hormone | BGM | Dr. Sabine Paul | Frankfurt | Vortrag | Webinar - ECPv6.15.20//NONSGML v1.0//EN
CALSCALE:GREGORIAN
METHOD:PUBLISH
X-WR-CALNAME:Brainfood | Moodfood | Gehirn | Stress | Ernährung | Immunsystem | Schlaf | Hormone | BGM | Dr. Sabine Paul | Frankfurt | Vortrag | Webinar
X-ORIGINAL-URL:https://www.nerven-power.de
X-WR-CALDESC:Veranstaltungen für Brainfood | Moodfood | Gehirn | Stress | Ernährung | Immunsystem | Schlaf | Hormone | BGM | Dr. Sabine Paul | Frankfurt | Vortrag | Webinar
REFRESH-INTERVAL;VALUE=DURATION:PT1H
X-Robots-Tag:noindex
X-PUBLISHED-TTL:PT1H
BEGIN:VTIMEZONE
TZID:Europe/Berlin
BEGIN:DAYLIGHT
TZOFFSETFROM:+0100
TZOFFSETTO:+0200
TZNAME:CEST
DTSTART:20180325T010000
END:DAYLIGHT
BEGIN:STANDARD
TZOFFSETFROM:+0200
TZOFFSETTO:+0100
TZNAME:CET
DTSTART:20181028T010000
END:STANDARD
BEGIN:DAYLIGHT
TZOFFSETFROM:+0100
TZOFFSETTO:+0200
TZNAME:CEST
DTSTART:20190331T010000
END:DAYLIGHT
BEGIN:STANDARD
TZOFFSETFROM:+0200
TZOFFSETTO:+0100
TZNAME:CET
DTSTART:20191027T010000
END:STANDARD
BEGIN:DAYLIGHT
TZOFFSETFROM:+0100
TZOFFSETTO:+0200
TZNAME:CEST
DTSTART:20200329T010000
END:DAYLIGHT
BEGIN:STANDARD
TZOFFSETFROM:+0200
TZOFFSETTO:+0100
TZNAME:CET
DTSTART:20201025T010000
END:STANDARD
BEGIN:DAYLIGHT
TZOFFSETFROM:+0100
TZOFFSETTO:+0200
TZNAME:CEST
DTSTART:20210328T010000
END:DAYLIGHT
BEGIN:STANDARD
TZOFFSETFROM:+0200
TZOFFSETTO:+0100
TZNAME:CET
DTSTART:20211031T010000
END:STANDARD
BEGIN:DAYLIGHT
TZOFFSETFROM:+0100
TZOFFSETTO:+0200
TZNAME:CEST
DTSTART:20220327T010000
END:DAYLIGHT
BEGIN:STANDARD
TZOFFSETFROM:+0200
TZOFFSETTO:+0100
TZNAME:CET
DTSTART:20221030T010000
END:STANDARD
BEGIN:DAYLIGHT
TZOFFSETFROM:+0100
TZOFFSETTO:+0200
TZNAME:CEST
DTSTART:20230326T010000
END:DAYLIGHT
BEGIN:STANDARD
TZOFFSETFROM:+0200
TZOFFSETTO:+0100
TZNAME:CET
DTSTART:20231029T010000
END:STANDARD
BEGIN:DAYLIGHT
TZOFFSETFROM:+0100
TZOFFSETTO:+0200
TZNAME:CEST
DTSTART:20240331T010000
END:DAYLIGHT
BEGIN:STANDARD
TZOFFSETFROM:+0200
TZOFFSETTO:+0100
TZNAME:CET
DTSTART:20241027T010000
END:STANDARD
END:VTIMEZONE
BEGIN:VTIMEZONE
TZID:UTC
BEGIN:STANDARD
TZOFFSETFROM:+0000
TZOFFSETTO:+0000
TZNAME:UTC
DTSTART:20220101T000000
END:STANDARD
END:VTIMEZONE
BEGIN:VEVENT
DTSTART;TZID=Europe/Berlin:20231115T163000
DTEND;TZID=Europe/Berlin:20231115T173000
DTSTAMP:20260423T102232
CREATED:20220124T090958Z
LAST-MODIFIED:20230809T094844Z
UID:12397-1700065800-1700069400@www.nerven-power.de
SUMMARY:Intervallfasten und Stoffwechselbooster | Webinar für Landesbank Baden-Württemberg
DESCRIPTION:Intervallfasten wirkt positiv auf das Gewicht. Aber wussten Sie auch\, dass das Essen in einem begrenzten Zeitintervall viele weitere positive Auswirkungen auf die Gesundheit hat? \nIn den Essphasen können Sie diese Effekte mit köstlichen Boostern und kleinen Tricks zusätzlich steigern und Ihren Stoffwechsel\, die Energie und Gehirnleistung noch weiter in Schwung bringen. \nIn diesem Online-Vortrag erfahren Sie: \n\nIntervallfasten: Was ist das\, wie geht es?\nSofort-Check: Wie flexibel ist Ihr Stoffwechsel?\nWelche Effekte sind mit Intervallfasten auf Gewicht\, Stoffwechsel\, Gehirnleistung\, Immunsystem und langfristige Gesundheit erreichbar?\nAufgepasst: Wann ist Intervallfasten weniger empfehlenswert?\nStoffwechsel-Booster & kleine Tricks: So fällt Intervallfasten noch leichter und wirkt besonders stoffwechselaktivierend\n\nIm Anschluss: \n\nDie Vortrags-Aufzeichnung steht für 14 Tage zur Verfügung\nAls pdf-Dateien herunterladbar:\n\nCheckliste Intervallfasten: Das Wichtigste im Überblick und Tipps für den leichten Einstieg\nCheckliste Stoffwechsel-Booster\nLink-Tipps für weiterführende Informationen\n\n\n\nDieses Webinar findet in Kooperation mit der Siemens-Betriebskrankenkasse (SBK) statt.\nSie möchten diesen Vortrag/dieses Webinar ebenfalls umsetzen? Melden Sie sich gerne über das Kontaktformular (hier klicken) bei mir.
URL:https://www.nerven-power.de/event/intervallfasten-und-stoffwechselbooster_hp/
LOCATION:Online
CATEGORIES:Online-Vortrag,Webinar
ATTACH;FMTTYPE=image/png:https://www.nerven-power.de/wp-content/uploads/2022/01/Cover_Intervallfasten_SP2021.png
END:VEVENT
BEGIN:VEVENT
DTSTART;TZID=Europe/Berlin:20230907T190000
DTEND;TZID=Europe/Berlin:20230907T203000
DTSTAMP:20260423T102232
CREATED:20230629T073504Z
LAST-MODIFIED:20230818T071725Z
UID:17464-1694113200-1694118600@www.nerven-power.de
SUMMARY:Schnelle Glücksküche | Online-Workshop mit Premium-Gewürzen | ausgebucht
DESCRIPTION:In diesem Online-Workshop bereiten Sie\nzwei „Glücks-Gewürzmischungen“ im Handumdrehen selbst zu – mit Premiumgewürzen\, die vorab bequem zu Ihnen nach Hause kommen. \nIm Online-Workshop gibt es damit auch eine Verkostung.\nSie können sofort die tollen Aromen ausprobieren – und im Sommerfeeling schwelgen. \nIn diesem Online-Workshop bereiten Sie\nzwei „Glücks-Gewürzmischungen“ im Handumdrehen selbst zu – mit Premiumgewürzen\, die vorab bequem zu Ihnen nach Hause kommen. \nWichtig: Die Zahl der Plätze ist beschränkt – aufgrund der Gewürzpakete\, die zugesendet werden. \nIm Online-Workshop gibt es damit auch eine Verkostung. Sie können sofort die tollen Aromen ausprobieren – und im Sommerfeeling schwelgen. \nhttps://subscribepage.io/c6fc5mWorkshop-Info und Buchung: Hier klicken!
URL:https://www.nerven-power.de/event/schnelle-glueckskueche-online-workshop-mit-premium-gewuerzen-noch-freie-plaetze-36/
LOCATION:Online
CATEGORIES:Online-Workshop
ATTACH;FMTTYPE=image/jpeg:https://www.nerven-power.de/wp-content/uploads/2023/06/Moodfood_Gewuerze_Olivenoel_Lorbeer_Chili_Glueckskueche_web_58974406.jpeg
END:VEVENT
BEGIN:VEVENT
DTSTART;VALUE=DATE:20230811
DTEND;VALUE=DATE:20230812
DTSTAMP:20260423T102232
CREATED:20221002T151804Z
LAST-MODIFIED:20230727T123813Z
UID:15394-1691712000-1691798399@www.nerven-power.de
SUMMARY:Mikronährstoffe für Höchstleistung und Brainpower | Interview Onlinekongress Mineralstoffe & Orthomolekularmedizin
DESCRIPTION:Mikronährstoffe für Höchstleistung und Brainpower | Interview Onlinekongress Mineralstoffe & Orthomolekularmedizin \nÜber 25 Experten-Interviews im kostenfreien Onlinekongress „Mineralstoffe & Orthomolekularmedizin“ vom 11.-20.08.2023\,\nunter anderem zu den Themen: \n\nDie häufigsten Ursachen von Nährstoffmangel\nWelche Krankheiten und Beschwerden durch Nährstoffmangel entstehen können\nWas bei der Interpretation von Laborwerten zu beachten ist\nWelche die wichtigsten Vitamine\, Mineralien und Nährstoffe sind\, wie man ihren Bedarf deckt und worauf bei der Einnahme von Nahrungsergänzungsmitteln zu achten ist\n\nAn Tag 1 des Kongresses Interview mit Dr. Sabine Paul:\n„Mikronährstoffe für Höchstleistung und Brainpower: Diese Nährstoffe braucht dein Gehirn“ \nZum Kongress-Programm und kostenfreier Anmeldung: Hier klicken
URL:https://www.nerven-power.de/event/mikronaehrstoffe-fuer-hoechstleistung-und-brainpower-interview-onlinekongress-mineralstoffe-orthomolekularmedizin/
LOCATION:Online
CATEGORIES:Online-Kongress
ATTACH;FMTTYPE=image/png:https://www.nerven-power.de/wp-content/uploads/2023/07/Brainfood_Vitamine_web.png
END:VEVENT
BEGIN:VEVENT
DTSTART;TZID=Europe/Berlin:20210729T140000
DTEND;TZID=Europe/Berlin:20210729T150000
DTSTAMP:20260423T102232
CREATED:20210510T155808Z
LAST-MODIFIED:20210510T155808Z
UID:10552-1627567200-1627570800@www.nerven-power.de
SUMMARY:Eating your way to a healthy gut | Webinar für Siemens Gamesa Renewable Energie S.A.
DESCRIPTION:Der Darm ist Schaltzentrale für unsere Gesundheit: Darmbakterien und Darmschleimhaut spielen eine entscheidende Rolle für die Aufnahme von Nährstoffen\, eine gute Verdauung und haben sogar Einfluss auf Schlaf\, Gehirnleistung und Immunsystem. \nIn diesem Webinar erfahren Sie: \n\nDer Darm: Eine WG mit 2 Millionen Freunden – und wie man sie bei Laune hält\nWas macht den Darm krank?\nWie Verdauungsprobleme\, Nahrungsmittelunverträglichkeiten und Darmkrebs entstehen – und welche Störfaktoren in der Ernährung eine Rolle spielen\nDarmpflegende Ernährung\nMit Nahrungsmitteln Darmerkrankungen vorbeugen und Therapien unterstützen\nBesondere Effekte darmgesunder Ernährung\nBeste Aussichten für Stimmung\, geistige Leistungskraft und Schlaf\n\nDieses Webinar findet in Kooperation mit der Siemens-Betriebskrankenkasse und in englischer Sprache statt. \nSie möchten auch einen „Darmgesund genießen“-Online-Vortrag für Ihr Unternehmen durchführen?\nSehr gerne\, melden Sie sich einfach über das Kontaktformular (hier klicken) bei mir.
URL:https://www.nerven-power.de/event/eating-your-way-to-a-healthy-gut-webinar-fuer-siemens-gamesa-renewable-energie-s-a/
LOCATION:Online
CATEGORIES:Online-Vortrag,Webinar
ATTACH;FMTTYPE=image/jpeg:https://www.nerven-power.de/wp-content/uploads/2021/04/Darmgesundheit_Ernaehrung.jpg
END:VEVENT
BEGIN:VEVENT
DTSTART;TZID=Europe/Berlin:20200927T180000
DTEND;TZID=Europe/Berlin:20200928T180000
DTSTAMP:20260423T102232
CREATED:20200923T120540Z
LAST-MODIFIED:20200923T120540Z
UID:8557-1601229600-1601316000@www.nerven-power.de
SUMMARY:Nervenstärkung und Gehirndoping mit den richtigen Gewürzen und Kräutern | Interview | Online-Kongress "Was dich nährt"
DESCRIPTION:Online-Kongress: „Was dich nährt. Stell dir vor es ist Lockdown und du weißt\, was du tun musst!“\nKrise als Chance. Lernen Sie von über 30 Expert*innen und Visionären\, wie Sie heute Ihre Welt von Morgen gestalten können – vor allem dann\, wenn es zu Situationen wie einem Lockdown kommt. \nNahrung ist mehr\, als das\, was wir essen. \nIn diesem kostenfreien Online-Kongress gibt es daher zu folgenden Themen nützliche Impulse: \n\nWie können Sie sich auch in Krisenzeiten gesund ernähren?\nWie behalten Sie auch in Krisenzeiten Energie und Vitalität?\nWie verfügen Sie auch in Krisenzeiten über ausreichend Wasser?\nWie stellt man sicher\, dass man auch bei einem Lockdown Strom und Wärme hat?\n\nMit Online-Impuls von Dr. Sabine Paul\nvon Sonntag\, 27.09.2020\, 18:00 Uhr\nbis Montag\, 28.09.\, 18:00 Uhr\n„Nervenstärkung und Gehirndoping mit den richtigen Gewürzen und Kräutern“\n>Hier geht es zur kostenfreien Anmeldung \n  \n 
URL:https://www.nerven-power.de/event/nervenstaerkung-und-gehirndoping-mit-den-richtigen-gewuerzen-und-kraeutern-interview-online-kongress-was-dich-naehrt/
LOCATION:Online
CATEGORIES:Online-Kongress
ATTACH;FMTTYPE=image/png:https://www.nerven-power.de/wp-content/uploads/2018/11/Gehirndoping_Gewuerze_blau.png
END:VEVENT
BEGIN:VEVENT
DTSTART;TZID=Europe/Berlin:20200901T180000
DTEND;TZID=Europe/Berlin:20200901T190000
DTSTAMP:20260423T102232
CREATED:20200715T120636Z
LAST-MODIFIED:20200803T181813Z
UID:7800-1598983200-1598986800@www.nerven-power.de
SUMMARY:Was stärkt in Krisen? 1. Effektive Nervennahrung | Web-Seminar 1 von 4
DESCRIPTION:Web-Seminar-Serie: Was stärkt in Krisen? | Kooperation: Dr. Sabine Paul & Annette Bantel-Kochan\n\n\nKrisen treffen uns immer wieder.\nWas hilft\, was stärkt in Krisen – vielleicht sogar so\, dass wir stärker als zuvor daraus hervorgehen? \nIn dieser 4-teiligen Web-Seminar-Reihe (mit Aufzeichnung) erfahren Sie\, worauf es ankommt – und wie Sie neue Fähigkeiten aufbauen können\, die Ihnen im modernen Leben immer wieder nützlich sind: \n\nWas stärkt in Krisen? – 1. Effektive Nervennahrung\nWas stärkt in Krisen? – 2. Stabilisierende Resilienz\nWas stärkt in Krisen? – 3. Aufmerksame Kommunikation\nWas stärkt in Krisen? – 4. Erholsamer Schlaf\n\nAm Dienstag\, 01.09.2020 von 18:00-19:00 Uhr\nfindet das Web-Seminar 1 statt:\n\nNervennahrung pur: Genießen Sie den Stress weg!\nmit Dr. Sabine Paul\nNervenstärke kann man essen. Wer die passende Ernährungsbasis legt\, lässt nicht nur die Denkleistung strahlen. Auch andere Anti-Stress-Methoden können schneller und besser wirken. Effektive Nervennahrung liefert die notwendigen Nährstoffe – und auch ein wenig „Mood-Food“. So bewahren Sie nicht nur die Ruhe im Sturm\, sondern genießen auch optimale Gehirnleistung und Wohlfühlmomente. Im Web-Seminar erfahren Sie konkret\, welche Nervennahrung nachweislich funktioniert. Mit Rezepttipps. \n\n\n>> Hier geht es zur ausführlichen Beschreibung ALLER Web-Seminare\nund zur Buchung einzelner oder aller Web-Seminare\n(mit Preisvorteil 4 für 3).\n>> Hier können Sie das WEB-SEMINAR 1 (NERVENNAHRUNG) sofort buchen. \n 
URL:https://www.nerven-power.de/event/was-staerkt-in-krisen-1-effektive-nervennahrung-online-workshop-1-von-4/
LOCATION:Online
CATEGORIES:Online-Workshop
ATTACH;FMTTYPE=image/jpeg:https://www.nerven-power.de/wp-content/uploads/2018/02/Entspannung_essen_See_Patrizia-Tilly_Fotolia_4113828_S.jpg
END:VEVENT
BEGIN:VEVENT
DTSTART;TZID=Europe/Berlin:20200227T190000
DTEND;TZID=Europe/Berlin:20200227T203000
DTSTAMP:20260423T102232
CREATED:20191228T212100Z
LAST-MODIFIED:20191228T212100Z
UID:5726-1582830000-1582835400@www.nerven-power.de
SUMMARY:NervenPower durch Brainfood | öff. Vortrag | Hitdorf b. Leverkusen
DESCRIPTION:Das moderne Leben fordert uns heutzutage viel ab. Ist es möglich durch Nahrungsmittel den Stressfaktor zu senken\, die Konzentration zu erhöhen und das Gedächtnis zu steigern? Die Antwort ist: Ja! \nDr. Sabine Paul bringt in ihrem Vortrag auf genussvolle Weise Licht ins Dunkel: \n\nEffektives Brainfood – für mehr Nervenstärke und Leistungskraft:\nWir lüften das Geheimnis\, welche Nahrungsmittel die Konzentration\, den Fokus und das Gedächtnis wirklich stärken.\nBlitzhelfer und Booster:\nSie lernen Brainfood kennen\, mit dem Sie bei akutem Stress in Sekundenschnelle Top-Gehirnleistung abrufen können oder Ihre geistige Leistungskraft langfristig auf ein neues Niveau heben.\nZahlen\, Daten\, Fakten:\nSie erfahren\, was mit Brainfood in Schulen und Unternehmen bezüglich Gesundheit und Gehirnleistung erreichbar ist.\nKostprobe: Machen Sie vor Ort gleich den Praxis-Test – mit einem kleinen Brainfood-Happen.\n\n\n\n\n\nOrt: Gaststätte Auf’m Lohr\, Hitdorfer Straße 264\, Hitdorf \nAnmeldung: Dr. Margit Doth\, Programm-Managerin \n\n\n\n\nTelefon: 0176 420 642 05; eMail: margit.doth@yoga-hitdorf.de \nGebühr: 5\,00 Euro \n\nDer Vortrag ist Teil des Projekts „Gesund in Hitdorf“\, ein Angebot für Hitdorfer Bür-gerinnen und Bürger\, die ihr Wissen über Gesundheitsthemen erweitern möchten. Experten aus dem Gesundheitswesen [Ärzte\, Apotheker\, Physiotherapeuten usw.] halten Vorträge zu interessanten Themen und stellen sich Ihren Fragen. \n\n\n\n\n\nWas kann ich selbst für mich tun?\nWas sind stressbedingte Krankheiten?\nWie wichtig ist Entspannung?\nWas ist Erholung?\n\nViele Alltagsbeschwerden hängen im weitesten Sinne mit dem Lebensstil zusammen und können durch Verhaltensänderungen gebessert werden. Ziel dieses Projektes ist es\, das Bewusstsein dafür zu schaffen\, dass jeder die Verantwortung für die eigene Gesundheit übernehmen muss und kann und dass damit Spaß und Lebensfreude verbunden sind.
URL:https://www.nerven-power.de/event/nervenpower-durch-brainfood-oeff-vortrag-hitdorf-b-leverkusen/
CATEGORIES:Vortrag
ATTACH;FMTTYPE=image/png:https://www.nerven-power.de/wp-content/uploads/2019/12/brainfood_gehirn_technisch_web.png
END:VEVENT
BEGIN:VEVENT
DTSTART;TZID=Europe/Berlin:20190829T100000
DTEND;TZID=Europe/Berlin:20190829T150000
DTSTAMP:20260423T102232
CREATED:20190801T100308Z
LAST-MODIFIED:20190801T101355Z
UID:4346-1567072800-1567090800@www.nerven-power.de
SUMMARY:Brainfood: Gehirnleistung steigern mit allen Sinnen | Impuls-Vortrag Merz Pharma Frankfurt
DESCRIPTION:Anlässlich des Gesundheitstags bei Merz Pharma geht es in zwei Impuls-Vorträgen um das Thema Brainfood – und wie die Gehirnleistung mit allen Sinnen gesteigert werden kann. \nZum Vortrag gibt es passende Kostproben\, inklusive Rezepten\, damit das Gehirn auch nach dem Gesundheitstag weiter optimal in Schwung ist. \nDer Gesundheitstag findet in Kooperation mit der Krankenversicherung BKK-VBU statt.
URL:https://www.nerven-power.de/event/brainfood-gehirnleistung-steigern-mit-allen-sinnen-impuls-vortrag-merz-pharma-frankfurt/
CATEGORIES:Vortrag
ATTACH;FMTTYPE=image/png:https://www.nerven-power.de/wp-content/uploads/2018/11/Nervennahrung_Stress_Gehirn_Ernährung.png
END:VEVENT
END:VCALENDAR